Package: BRGenomics Version: 1.18.0 Command: /Library/Frameworks/R.framework/Resources/bin/R CMD INSTALL BRGenomics StartedAt: 2025-03-31 15:55:21 -0400 (Mon, 31 Mar 2025) EndedAt: 2025-03-31 15:55:59 -0400 (Mon, 31 Mar 2025) EllapsedTime: 38.2 seconds RetCode: 0 Status: OK