Package: BRGenomics Version: 1.18.0 Command: /Library/Frameworks/R.framework/Resources/bin/R CMD check --install=check:BRGenomics.install-out.txt --library=/Library/Frameworks/R.framework/Resources/library --no-vignettes --timings BRGenomics_1.18.0.tar.gz StartedAt: 2025-04-01 12:43:23 -0400 (Tue, 01 Apr 2025) EndedAt: 2025-04-01 13:23:23 -0400 (Tue, 01 Apr 2025) EllapsedTime: 2400.3 seconds RetCode: None Status: TIMEOUT CheckDir: BRGenomics.Rcheck Warnings: NA