Package: BRGenomics Version: 1.18.0 Command: rm -rf BRGenomics.buildbin-libdir && mkdir BRGenomics.buildbin-libdir && /Users/biocbuild/BBS/utils/build-universal.sh BRGenomics_1.18.0.tar.gz /Library/Frameworks/R.framework/Resources/bin/R BRGenomics.buildbin-libdir StartedAt: 2025-04-02 13:32:59 -0400 (Wed, 02 Apr 2025) EndedAt: 2025-04-02 13:33:43 -0400 (Wed, 02 Apr 2025) EllapsedTime: 44.1 seconds RetCode: 0 Status: OK PackageFile: BRGenomics_1.18.0.tgz PackageFileSize: 4.099 MiB