Package: BREW3R.r Version: 1.2.0 Command: /home/biocbuild/R/R/bin/R CMD INSTALL BREW3R.r StartedAt: 2025-03-31 20:20:18 -0000 (Mon, 31 Mar 2025) EndedAt: 2025-03-31 20:20:30 -0000 (Mon, 31 Mar 2025) EllapsedTime: 12.2 seconds RetCode: 0 Status: OK