Package: BREW3R.r Version: 1.2.0 Command: /home/biocbuild/R/R/bin/R CMD build --keep-empty-dirs --no-resave-data BREW3R.r StartedAt: 2025-03-31 22:00:42 -0000 (Mon, 31 Mar 2025) EndedAt: 2025-03-31 22:01:23 -0000 (Mon, 31 Mar 2025) EllapsedTime: 41.0 seconds RetCode: 0 Status: OK PackageFile: BREW3R.r_1.2.0.tar.gz PackageFileSize: 1.852 MiB