Package: BRAIN Version: 1.52.0 Command: F:\biocbuild\bbs-3.20-bioc\R\bin\R.exe CMD INSTALL BRAIN StartedAt: 2025-03-31 15:41:04 -0400 (Mon, 31 Mar 2025) EndedAt: 2025-03-31 15:41:22 -0400 (Mon, 31 Mar 2025) EllapsedTime: 18.1 seconds RetCode: 0 Status: OK