Package: BPRMeth Version: 1.32.0 Command: /home/biocbuild/R/R/bin/R CMD INSTALL BPRMeth StartedAt: 2025-03-31 20:44:25 -0000 (Mon, 31 Mar 2025) EndedAt: 2025-03-31 20:45:06 -0000 (Mon, 31 Mar 2025) EllapsedTime: 41.3 seconds RetCode: 0 Status: OK