Package: BPRMeth Version: 1.32.0 Command: /home/biocbuild/bbs-3.20-bioc/R/bin/R CMD check --install=check:BPRMeth.install-out.txt --library=/home/biocbuild/bbs-3.20-bioc/R/site-library --timings BPRMeth_1.32.0.tar.gz StartedAt: 2025-03-31 20:21:27 -0400 (Mon, 31 Mar 2025) EndedAt: 2025-03-31 20:24:32 -0400 (Mon, 31 Mar 2025) EllapsedTime: 184.8 seconds RetCode: 0 Status: OK CheckDir: BPRMeth.Rcheck Warnings: 0