Package: BOBaFIT Version: 1.10.0 Command: /home/biocbuild/R/R/bin/R CMD build --keep-empty-dirs --no-resave-data BOBaFIT StartedAt: 2025-03-31 21:58:54 -0000 (Mon, 31 Mar 2025) EndedAt: 2025-03-31 22:01:07 -0000 (Mon, 31 Mar 2025) EllapsedTime: 133.0 seconds RetCode: 0 Status: OK PackageFile: BOBaFIT_1.10.0.tar.gz PackageFileSize: 2.543 MiB