Package: BEclear Version: 2.22.0 Command: /Library/Frameworks/R.framework/Resources/bin/R CMD INSTALL BEclear StartedAt: 2025-03-31 15:59:06 -0400 (Mon, 31 Mar 2025) EndedAt: 2025-03-31 15:59:20 -0400 (Mon, 31 Mar 2025) EllapsedTime: 14.7 seconds RetCode: 0 Status: OK