Package: BEclear Version: 2.22.0 Command: /Library/Frameworks/R.framework/Resources/bin/R CMD build --keep-empty-dirs --no-resave-data BEclear StartedAt: 2025-03-31 19:16:12 -0400 (Mon, 31 Mar 2025) EndedAt: 2025-03-31 19:16:40 -0400 (Mon, 31 Mar 2025) EllapsedTime: 28.5 seconds RetCode: 0 Status: OK PackageFile: BEclear_2.22.0.tar.gz PackageFileSize: 716.9 KiB