Package: BERT Version: 1.2.0 Command: /home/biocbuild/R/R/bin/R CMD INSTALL BERT StartedAt: 2025-03-31 20:54:26 -0000 (Mon, 31 Mar 2025) EndedAt: 2025-03-31 20:54:29 -0000 (Mon, 31 Mar 2025) EllapsedTime: 3.0 seconds RetCode: 0 Status: OK