Package: BERT Version: 1.2.0 Command: /home/biocbuild/R/R/bin/R CMD build --keep-empty-dirs --no-resave-data BERT StartedAt: 2025-03-31 21:37:07 -0000 (Mon, 31 Mar 2025) EndedAt: 2025-03-31 21:37:38 -0000 (Mon, 31 Mar 2025) EllapsedTime: 31.0 seconds RetCode: 0 Status: OK PackageFile: BERT_1.2.0.tar.gz PackageFileSize: 283.6 KiB