Package: BERT Version: 1.2.0 Command: rm -rf BERT.buildbin-libdir && mkdir BERT.buildbin-libdir && F:\biocbuild\bbs-3.20-bioc\R\bin\R.exe CMD INSTALL --build --library=BERT.buildbin-libdir BERT_1.2.0.tar.gz StartedAt: 2025-04-01 07:44:05 -0400 (Tue, 01 Apr 2025) EndedAt: 2025-04-01 07:44:22 -0400 (Tue, 01 Apr 2025) EllapsedTime: 16.6 seconds RetCode: 0 Status: OK PackageFile: BERT_1.2.0.zip PackageFileSize: 327.8 KiB