Package: BERT Version: 1.2.0 Command: /Library/Frameworks/R.framework/Resources/bin/R CMD INSTALL BERT StartedAt: 2025-03-31 16:11:41 -0400 (Mon, 31 Mar 2025) EndedAt: 2025-03-31 16:11:46 -0400 (Mon, 31 Mar 2025) EllapsedTime: 5.4 seconds RetCode: 0 Status: OK