Package: BEARscc Version: 1.26.0 Command: /home/biocbuild/R/R/bin/R CMD build --keep-empty-dirs --no-resave-data BEARscc StartedAt: 2025-03-31 21:36:01 -0000 (Mon, 31 Mar 2025) EndedAt: 2025-03-31 21:37:07 -0000 (Mon, 31 Mar 2025) EllapsedTime: 66.0 seconds RetCode: 1 Status: ERROR PackageFile: None PackageFileSize: NA