Package: BEARscc Version: 1.26.0 Command: /Library/Frameworks/R.framework/Resources/bin/R CMD check --install=check:BEARscc.install-out.txt --library=/Library/Frameworks/R.framework/Resources/library --no-vignettes --timings BEARscc_1.26.0.tar.gz StartedAt: 2025-02-20 23:52:59 -0500 (Thu, 20 Feb 2025) EndedAt: 2025-02-21 00:00:39 -0500 (Fri, 21 Feb 2025) EllapsedTime: 460.0 seconds RetCode: 1 Status: ERROR CheckDir: BEARscc.Rcheck Warnings: NA