Package: BBCAnalyzer Version: 1.36.0 Command: /home/biocbuild/bbs-3.20-bioc/R/bin/R CMD check --install=check:BBCAnalyzer.install-out.txt --library=/home/biocbuild/bbs-3.20-bioc/R/site-library --timings BBCAnalyzer_1.36.0.tar.gz StartedAt: 2025-03-31 20:03:26 -0400 (Mon, 31 Mar 2025) EndedAt: 2025-03-31 20:14:13 -0400 (Mon, 31 Mar 2025) EllapsedTime: 646.8 seconds RetCode: 0 Status: OK CheckDir: BBCAnalyzer.Rcheck Warnings: 0