Package: BBCAnalyzer Version: 1.36.0 Command: /Library/Frameworks/R.framework/Resources/bin/R CMD INSTALL BBCAnalyzer StartedAt: 2025-03-31 16:04:37 -0400 (Mon, 31 Mar 2025) EndedAt: 2025-03-31 16:05:27 -0400 (Mon, 31 Mar 2025) EllapsedTime: 49.6 seconds RetCode: 0 Status: OK