Package: BBCAnalyzer Version: 1.36.0 Command: /Library/Frameworks/R.framework/Resources/bin/R CMD check --install=check:BBCAnalyzer.install-out.txt --library=/Library/Frameworks/R.framework/Resources/library --no-vignettes --timings BBCAnalyzer_1.36.0.tar.gz StartedAt: 2025-04-01 11:36:25 -0400 (Tue, 01 Apr 2025) EndedAt: 2025-04-01 11:41:51 -0400 (Tue, 01 Apr 2025) EllapsedTime: 326.2 seconds RetCode: 0 Status: OK CheckDir: BBCAnalyzer.Rcheck Warnings: 0