Package: BASiCStan Version: 1.8.0 Command: F:\biocbuild\bbs-3.20-bioc\R\bin\R.exe CMD INSTALL BASiCStan StartedAt: 2025-03-31 16:57:14 -0400 (Mon, 31 Mar 2025) EndedAt: 2025-03-31 17:10:32 -0400 (Mon, 31 Mar 2025) EllapsedTime: 798.5 seconds RetCode: 0 Status: OK