Package: BASiCStan Version: 1.8.0 Command: chmod a+r BASiCStan -R && F:\biocbuild\bbs-3.20-bioc\R\bin\R.exe CMD build --keep-empty-dirs --no-resave-data BASiCStan StartedAt: 2025-03-31 17:28:04 -0400 (Mon, 31 Mar 2025) EndedAt: 2025-03-31 17:34:48 -0400 (Mon, 31 Mar 2025) EllapsedTime: 404.0 seconds RetCode: 0 Status: OK PackageFile: BASiCStan_1.8.0.tar.gz PackageFileSize: 42.43 KiB