Package: BASiCStan Version: 1.8.0 Command: /Library/Frameworks/R.framework/Resources/bin/R CMD INSTALL BASiCStan StartedAt: 2025-03-31 17:48:34 -0400 (Mon, 31 Mar 2025) EndedAt: 2025-03-31 17:52:13 -0400 (Mon, 31 Mar 2025) EllapsedTime: 219.7 seconds RetCode: 0 Status: OK