Package: BASiCStan Version: 1.8.0 Command: /Library/Frameworks/R.framework/Resources/bin/R CMD build --keep-empty-dirs --no-resave-data BASiCStan StartedAt: 2025-03-31 19:06:13 -0400 (Mon, 31 Mar 2025) EndedAt: 2025-03-31 19:10:05 -0400 (Mon, 31 Mar 2025) EllapsedTime: 232.1 seconds RetCode: 0 Status: OK PackageFile: BASiCStan_1.8.0.tar.gz PackageFileSize: 76.55 KiB