Package: BASiCS Version: 2.18.0 Command: F:\biocbuild\bbs-3.20-bioc\R\bin\R.exe CMD check --no-multiarch --install=check:BASiCS.install-out.txt --library=F:\biocbuild\bbs-3.20-bioc\R\library --no-vignettes --timings BASiCS_2.18.0.tar.gz StartedAt: 2025-03-31 23:06:09 -0400 (Mon, 31 Mar 2025) EndedAt: 2025-03-31 23:17:23 -0400 (Mon, 31 Mar 2025) EllapsedTime: 674.7 seconds RetCode: 0 Status: OK CheckDir: BASiCS.Rcheck Warnings: 0