Package: BASiCS Version: 2.18.0 Command: chmod a+r BASiCS -R && F:\biocbuild\bbs-3.20-bioc\R\bin\R.exe CMD build --keep-empty-dirs --no-resave-data BASiCS StartedAt: 2025-03-31 17:27:59 -0400 (Mon, 31 Mar 2025) EndedAt: 2025-03-31 17:30:30 -0400 (Mon, 31 Mar 2025) EllapsedTime: 150.3 seconds RetCode: 0 Status: OK PackageFile: BASiCS_2.18.0.tar.gz PackageFileSize: 2.958 MiB