Package: BASiCS Version: 2.18.0 Command: /Library/Frameworks/R.framework/Resources/bin/R CMD check --install=check:BASiCS.install-out.txt --library=/Library/Frameworks/R.framework/Resources/library --no-vignettes --timings BASiCS_2.18.0.tar.gz StartedAt: 2025-04-01 11:27:03 -0400 (Tue, 01 Apr 2025) EndedAt: 2025-04-01 11:37:14 -0400 (Tue, 01 Apr 2025) EllapsedTime: 611.3 seconds RetCode: 0 Status: WARNINGS CheckDir: BASiCS.Rcheck Warnings: 1