Package: BANDITS Version: 1.22.0 Command: /home/biocbuild/bbs-3.20-bioc/R/bin/R CMD build --keep-empty-dirs --no-resave-data --md5 BANDITS StartedAt: 2025-03-31 16:15:18 -0400 (Mon, 31 Mar 2025) EndedAt: 2025-03-31 16:17:43 -0400 (Mon, 31 Mar 2025) EllapsedTime: 145.1 seconds RetCode: 0 Status: OK PackageFile: BANDITS_1.22.0.tar.gz PackageFileSize: 1.289 MiB