Package: AssessORF Version: 1.24.0 Command: chmod a+r AssessORF -R && F:\biocbuild\bbs-3.20-bioc\R\bin\R.exe CMD build --keep-empty-dirs --no-resave-data AssessORF StartedAt: 2025-03-31 17:23:49 -0400 (Mon, 31 Mar 2025) EndedAt: 2025-03-31 17:24:45 -0400 (Mon, 31 Mar 2025) EllapsedTime: 55.9 seconds RetCode: 0 Status: OK PackageFile: AssessORF_1.24.0.tar.gz PackageFileSize: 4.7 MiB