Package: AssessORF Version: 1.24.0 Command: rm -rf AssessORF.buildbin-libdir && mkdir AssessORF.buildbin-libdir && F:\biocbuild\bbs-3.20-bioc\R\bin\R.exe CMD INSTALL --build --library=AssessORF.buildbin-libdir AssessORF_1.24.0.tar.gz StartedAt: 2025-04-01 07:41:25 -0400 (Tue, 01 Apr 2025) EndedAt: 2025-04-01 07:41:46 -0400 (Tue, 01 Apr 2025) EllapsedTime: 21.5 seconds RetCode: 0 Status: OK PackageFile: AssessORF_1.24.0.zip PackageFileSize: 4.796 MiB