Package: AssessORF Version: 1.24.0 Command: /Library/Frameworks/R.framework/Resources/bin/R CMD check --install=check:AssessORF.install-out.txt --library=/Library/Frameworks/R.framework/Resources/library --no-vignettes --timings AssessORF_1.24.0.tar.gz StartedAt: 2025-04-01 11:01:05 -0400 (Tue, 01 Apr 2025) EndedAt: 2025-04-01 11:01:09 -0400 (Tue, 01 Apr 2025) EllapsedTime: 3.2 seconds RetCode: 1 Status: ERROR CheckDir: AssessORF.Rcheck Warnings: NA