Package: ArrayExpress Version: 1.66.0 Command: /Library/Frameworks/R.framework/Resources/bin/R CMD build --keep-empty-dirs --no-resave-data ArrayExpress StartedAt: 2025-03-31 18:45:25 -0400 (Mon, 31 Mar 2025) EndedAt: 2025-03-31 18:45:26 -0400 (Mon, 31 Mar 2025) EllapsedTime: 1.2 seconds RetCode: 1 Status: ERROR PackageFile: None PackageFileSize: NA