Package: AnnotationHubData Version: 1.36.0 Command: /home/biocbuild/R/R/bin/R CMD build --keep-empty-dirs --no-resave-data AnnotationHubData StartedAt: 2025-03-31 21:21:04 -0000 (Mon, 31 Mar 2025) EndedAt: 2025-03-31 21:21:56 -0000 (Mon, 31 Mar 2025) EllapsedTime: 52.0 seconds RetCode: 0 Status: OK PackageFile: AnnotationHubData_1.36.0.tar.gz PackageFileSize: 425.3 KiB