Package: AnnotationHubData Version: 1.36.0 Command: /Library/Frameworks/R.framework/Resources/bin/R CMD check --install=check:AnnotationHubData.install-out.txt --library=/Library/Frameworks/R.framework/Resources/library --no-vignettes --timings AnnotationHubData_1.36.0.tar.gz StartedAt: 2025-03-31 23:19:17 -0400 (Mon, 31 Mar 2025) EndedAt: 2025-03-31 23:35:19 -0400 (Mon, 31 Mar 2025) EllapsedTime: 962.2 seconds RetCode: 0 Status: WARNINGS CheckDir: AnnotationHubData.Rcheck Warnings: 1