Package: AnnotationHubData Version: 1.36.0 Command: rm -rf AnnotationHubData.buildbin-libdir && mkdir AnnotationHubData.buildbin-libdir && /Users/biocbuild/BBS/utils/build-universal.sh AnnotationHubData_1.36.0.tar.gz /Library/Frameworks/R.framework/Resources/bin/R AnnotationHubData.buildbin-libdir StartedAt: 2025-04-01 11:24:36 -0400 (Tue, 01 Apr 2025) EndedAt: 2025-04-01 11:26:08 -0400 (Tue, 01 Apr 2025) EllapsedTime: 92.3 seconds RetCode: 0 Status: OK PackageFile: AnnotationHubData_1.36.0.tgz PackageFileSize: 934.7 KiB