Package: AnnotationHub Version: 3.14.0 Command: F:\biocbuild\bbs-3.20-bioc\R\bin\R.exe CMD check --no-multiarch --install=check:AnnotationHub.install-out.txt --library=F:\biocbuild\bbs-3.20-bioc\R\library --no-vignettes --timings AnnotationHub_3.14.0.tar.gz StartedAt: 2025-03-31 22:54:21 -0400 (Mon, 31 Mar 2025) EndedAt: 2025-03-31 22:59:12 -0400 (Mon, 31 Mar 2025) EllapsedTime: 291.7 seconds RetCode: 0 Status: OK CheckDir: AnnotationHub.Rcheck Warnings: 0