Package: AnnotationHub Version: 3.14.0 Command: /home/biocbuild/bbs-3.20-bioc/R/bin/R CMD check --install=check:AnnotationHub.install-out.txt --library=/home/biocbuild/bbs-3.20-bioc/R/site-library --timings AnnotationHub_3.14.0.tar.gz StartedAt: 2025-03-31 19:50:32 -0400 (Mon, 31 Mar 2025) EndedAt: 2025-03-31 19:56:31 -0400 (Mon, 31 Mar 2025) EllapsedTime: 359.5 seconds RetCode: 0 Status: OK CheckDir: AnnotationHub.Rcheck Warnings: 0