Package: AnnotationForge Version: 1.48.0 Command: /home/biocbuild/R/R/bin/R CMD INSTALL AnnotationForge StartedAt: 2025-03-31 20:27:03 -0000 (Mon, 31 Mar 2025) EndedAt: 2025-03-31 20:27:26 -0000 (Mon, 31 Mar 2025) EllapsedTime: 22.7 seconds RetCode: 0 Status: OK