Package: AnnotationForge Version: 1.48.0 Command: chmod a+r AnnotationForge -R && F:\biocbuild\bbs-3.20-bioc\R\bin\R.exe CMD build --keep-empty-dirs --no-resave-data AnnotationForge StartedAt: 2025-03-31 17:20:20 -0400 (Mon, 31 Mar 2025) EndedAt: 2025-03-31 17:25:19 -0400 (Mon, 31 Mar 2025) EllapsedTime: 299.1 seconds RetCode: 0 Status: OK PackageFile: AnnotationForge_1.48.0.tar.gz PackageFileSize: 3.812 MiB