Package: AnnotationForge Version: 1.48.0 Command: /Library/Frameworks/R.framework/Resources/bin/R CMD INSTALL AnnotationForge StartedAt: 2025-03-31 15:44:05 -0400 (Mon, 31 Mar 2025) EndedAt: 2025-03-31 15:44:25 -0400 (Mon, 31 Mar 2025) EllapsedTime: 20.0 seconds RetCode: 0 Status: OK