Package: AnnotationDbi Version: 1.68.0 Command: F:\biocbuild\bbs-3.20-bioc\R\bin\R.exe CMD check --no-multiarch --install=check:AnnotationDbi.install-out.txt --library=F:\biocbuild\bbs-3.20-bioc\R\library --no-vignettes --timings AnnotationDbi_1.68.0.tar.gz StartedAt: 2025-03-31 22:53:47 -0400 (Mon, 31 Mar 2025) EndedAt: 2025-03-31 23:03:07 -0400 (Mon, 31 Mar 2025) EllapsedTime: 560.1 seconds RetCode: 0 Status: WARNINGS CheckDir: AnnotationDbi.Rcheck Warnings: 1