Package: AnnotationDbi Version: 1.68.0 Command: /Library/Frameworks/R.framework/Resources/bin/R CMD INSTALL AnnotationDbi StartedAt: 2025-03-31 15:23:00 -0400 (Mon, 31 Mar 2025) EndedAt: 2025-03-31 15:23:46 -0400 (Mon, 31 Mar 2025) EllapsedTime: 45.7 seconds RetCode: 0 Status: OK