Package: AnnotationDbi Version: 1.68.0 Command: /Library/Frameworks/R.framework/Resources/bin/R CMD check --install=check:AnnotationDbi.install-out.txt --library=/Library/Frameworks/R.framework/Resources/library --no-vignettes --timings AnnotationDbi_1.68.0.tar.gz StartedAt: 2025-03-31 23:18:27 -0400 (Mon, 31 Mar 2025) EndedAt: 2025-03-31 23:33:29 -0400 (Mon, 31 Mar 2025) EllapsedTime: 901.9 seconds RetCode: 0 Status: WARNINGS CheckDir: AnnotationDbi.Rcheck Warnings: 1