Package: AnnotationDbi Version: 1.68.0 Command: rm -rf AnnotationDbi.buildbin-libdir && mkdir AnnotationDbi.buildbin-libdir && /Users/biocbuild/BBS/utils/build-universal.sh AnnotationDbi_1.68.0.tar.gz /Library/Frameworks/R.framework/Resources/bin/R AnnotationDbi.buildbin-libdir StartedAt: 2025-04-01 11:24:31 -0400 (Tue, 01 Apr 2025) EndedAt: 2025-04-01 11:25:21 -0400 (Tue, 01 Apr 2025) EllapsedTime: 49.7 seconds RetCode: 0 Status: OK PackageFile: AnnotationDbi_1.68.0.tgz PackageFileSize: 4.972 MiB