Package: AneuFinder Version: 1.34.0 Command: /home/biocbuild/R/R/bin/R CMD check --install=check:AneuFinder.install-out.txt --library=/home/biocbuild/R/R/site-library --no-vignettes --timings AneuFinder_1.34.0.tar.gz StartedAt: 2025-04-01 03:49:34 -0000 (Tue, 01 Apr 2025) EndedAt: 2025-04-01 04:04:26 -0000 (Tue, 01 Apr 2025) EllapsedTime: 891.7 seconds RetCode: 0 Status: OK CheckDir: AneuFinder.Rcheck Warnings: 0