############################################################################## ############################################################################## ### ### Running command: ### ### /home/biocbuild/R/R/bin/R CMD check --install=check:AneuFinder.install-out.txt --library=/home/biocbuild/R/R/site-library --no-vignettes --timings AneuFinder_1.34.0.tar.gz ### ############################################################################## ############################################################################## * using log directory ‘/home/biocbuild/bbs-3.20-bioc/meat/AneuFinder.Rcheck’ * using R version 4.4.3 (2025-02-28) * using platform: aarch64-unknown-linux-gnu * R was compiled by aarch64-unknown-linux-gnu-gcc (GCC) 14.2.0 GNU Fortran (GCC) 14.2.0 * running under: openEuler 24.03 (LTS) * using session charset: UTF-8 * using option ‘--no-vignettes’ * checking for file ‘AneuFinder/DESCRIPTION’ ... OK * checking extension type ... Package * this is package ‘AneuFinder’ version ‘1.34.0’ * checking package namespace information ... OK * checking package dependencies ... OK * checking if this is a source package ... OK * checking if there is a namespace ... OK * checking for hidden files and directories ... OK * checking for portable file names ... OK * checking for sufficient/correct file permissions ... OK * checking whether package ‘AneuFinder’ can be installed ... OK * used C++ compiler: ‘aarch64-unknown-linux-gnu-g++ (GCC) 14.2.0’ * checking installed package size ... OK * checking package directory ... OK * checking ‘build’ directory ... OK * checking DESCRIPTION meta-information ... OK * checking top-level files ... OK * checking for left-over files ... OK * checking index information ... OK * checking package subdirectories ... OK * checking code files for non-ASCII characters ... OK * checking R files for syntax errors ... OK * checking whether the package can be loaded ... OK * checking whether the package can be loaded with stated dependencies ... OK * checking whether the package can be unloaded cleanly ... OK * checking whether the namespace can be loaded with stated dependencies ... OK * checking whether the namespace can be unloaded cleanly ... OK * checking loading without being on the library search path ... OK * checking whether startup messages can be suppressed ... OK * checking dependencies in R code ... OK * checking S3 generic/method consistency ... OK * checking replacement functions ... OK * checking foreign function calls ... OK * checking R code for possible problems ... NOTE Aneufinder: multiple local function definitions for ‘parallel.helper’ with different formal arguments * checking Rd files ... OK * checking Rd metadata ... OK * checking Rd cross-references ... OK * checking for missing documentation entries ... OK * checking for code/documentation mismatches ... OK * checking Rd \usage sections ... OK * checking Rd contents ... OK * checking for unstated dependencies in examples ... OK * checking line endings in C/C++/Fortran sources/headers ... OK * checking compiled code ... NOTE Note: information on .o files is not available * checking files in ‘vignettes’ ... OK * checking examples ... OK Examples with CPU (user + system) or elapsed time > 5s user system elapsed refineBreakpoints 75.069 0.735 84.024 simulateReads 64.154 2.950 79.860 heatmapAneuploidies 64.703 0.303 73.353 plotHeterogeneity 41.027 0.294 44.228 heatmapGenomewideClusters 36.075 0.155 40.777 karyotypeMeasures 32.377 0.223 36.458 heatmapGenomewide 30.624 0.151 35.313 correctGC 27.593 2.103 37.557 annotateBreakpoints 19.002 0.200 24.547 getBreakpoints 15.827 0.166 18.136 consensusSegments 12.389 0.083 15.136 subsetByCNVprofile 7.575 0.024 8.614 getSCEcoordinates 7.237 0.157 8.564 findCNVs.strandseq 6.158 0.111 7.247 findCNVs 5.692 0.321 7.149 variableWidthBins 5.938 0.063 7.206 loadFromFiles 4.684 0.020 5.050 * checking for unstated dependencies in ‘tests’ ... OK * checking tests ... Running ‘testthat.R’ OK * checking for unstated dependencies in vignettes ... OK * checking package vignettes ... OK * checking running R code from vignettes ... SKIPPED * checking re-building of vignette outputs ... SKIPPED * checking PDF version of manual ... OK * DONE Status: 2 NOTEs See ‘/home/biocbuild/bbs-3.20-bioc/meat/AneuFinder.Rcheck/00check.log’ for details.