Package: AneuFinder Version: 1.34.0 Command: F:\biocbuild\bbs-3.20-bioc\R\bin\R.exe CMD INSTALL AneuFinder StartedAt: 2025-03-31 15:55:34 -0400 (Mon, 31 Mar 2025) EndedAt: 2025-03-31 15:56:56 -0400 (Mon, 31 Mar 2025) EllapsedTime: 81.3 seconds RetCode: 0 Status: OK