Package: Anaquin Version: 2.30.0 Command: rm -rf Anaquin.buildbin-libdir && mkdir Anaquin.buildbin-libdir && F:\biocbuild\bbs-3.20-bioc\R\bin\R.exe CMD INSTALL --build --library=Anaquin.buildbin-libdir Anaquin_2.30.0.tar.gz StartedAt: 2025-04-01 07:39:33 -0400 (Tue, 01 Apr 2025) EndedAt: 2025-04-01 07:39:53 -0400 (Tue, 01 Apr 2025) EllapsedTime: 20.1 seconds RetCode: 0 Status: OK PackageFile: Anaquin_2.30.0.zip PackageFileSize: 461.6 KiB