Package: AnVILWorkflow Version: 1.6.0 Command: /home/biocbuild/R/R/bin/R CMD INSTALL AnVILWorkflow StartedAt: 2025-03-31 20:46:07 -0000 (Mon, 31 Mar 2025) EndedAt: 2025-03-31 20:46:14 -0000 (Mon, 31 Mar 2025) EllapsedTime: 6.3 seconds RetCode: 0 Status: OK