Package: AnVILPublish Version: 1.16.0 Command: /home/biocbuild/R/R/bin/R CMD INSTALL AnVILPublish StartedAt: 2025-03-31 21:01:34 -0000 (Mon, 31 Mar 2025) EndedAt: 2025-03-31 21:01:41 -0000 (Mon, 31 Mar 2025) EllapsedTime: 6.5 seconds RetCode: 0 Status: OK